BEGIN:VCALENDAR
METHOD:PUBLISH
VERSION:2.0
CALSCALE:GREGORIAN
PRODID:-//NONSGML WPForms//NONSGML Sugar Calendar Feeds v3.10.0//EN
X-WR-CALNAME:Laylat-al-Baraʿah
X-WR-CALDESC:Bridges International
X-WR-TIMEZONE:UTC
BEGIN:VTIMEZONE
TZID:UTC
BEGIN:STANDARD
TZOFFSETFROM:+0000
TZOFFSETTO:+0000
DTSTART:20260804T120000
TZNAME:UTC
END:STANDARD
END:VTIMEZONE
BEGIN:VTIMEZONE
TZID:UTC
BEGIN:STANDARD
TZOFFSETFROM:+0000
TZOFFSETTO:+0000
DTSTART:20260804T120000
TZNAME:UTC
END:STANDARD
END:VTIMEZONE
BEGIN:VEVENT
SUMMARY:Laylat al-Baraʿah
DESCRIPTION:Night of forgiveness / mercy.
URL;VALUE=URI:https://www.bridgesinternational.com/sc_recurring_event/la
 ylat-al-bara%ca%bfah/
UID:urn:uuid:5a701837-7036-4940-83d2-49a5936bfbe8
STATUS:CONFIRMED
ORGANIZER:
DTSTAMP:20260421T082145Z
DTSTART;VALUE=DATE:20270203
RRULE:FREQ=YEARLY;INTERVAL=1
END:VEVENT
END:VCALENDAR